BEGIN:VCALENDAR
VERSION:2.0
PRODID:-//Camden County Republican Club - ECPv6.15.20//NONSGML v1.0//EN
CALSCALE:GREGORIAN
METHOD:PUBLISH
X-ORIGINAL-URL:https://ccrclub.com
X-WR-CALDESC:Events for Camden County Republican Club
REFRESH-INTERVAL;VALUE=DURATION:PT1H
X-Robots-Tag:noindex
X-PUBLISHED-TTL:PT1H
BEGIN:VTIMEZONE
TZID:UTC
BEGIN:STANDARD
TZOFFSETFROM:+0000
TZOFFSETTO:+0000
TZNAME:UTC
DTSTART:20230101T000000
END:STANDARD
END:VTIMEZONE
BEGIN:VEVENT
DTSTART;TZID=UTC:20240116T183000
DTEND;TZID=UTC:20240116T210000
DTSTAMP:20260425T111522
CREATED:20240104T163455Z
LAST-MODIFIED:20240112T185515Z
UID:3575-1705429800-1705438800@ccrclub.com
SUMMARY:Cancelled - CCRC Jan 16th Meeting
DESCRIPTION:Cancelled  \nTUESDAY\, Jan 16\, 2024 \nCamden County \nRepublican Club Meeting \nCommunity Christian Church \n1064 N Business Hwy 5 \nCamdenton\, MO \n7:00 PM \nDoors open at 6:30 PM \nAgenda: \nLibrary Update \nfrom \nCamdenton Schools \nCamden County Libraries \n******************** \nRSVP needed by Sunday\, Oct 15th \nRSVP by calling 573-723-0388\, option 2\, \nor via email to larsonfrme@aol.com
URL:https://ccrclub.com/event/ccrc-jan-16th-meeting/
LOCATION:Community Christian Church\, 1064 N Business Hwy 5\, Camdenton\, MO\, United States
END:VEVENT
END:VCALENDAR