BEGIN:VCALENDAR
VERSION:2.0
PRODID:-//Camden County Republican Club - ECPv6.15.20//NONSGML v1.0//EN
CALSCALE:GREGORIAN
METHOD:PUBLISH
X-WR-CALNAME:Camden County Republican Club
X-ORIGINAL-URL:https://ccrclub.com
X-WR-CALDESC:Events for Camden County Republican Club
REFRESH-INTERVAL;VALUE=DURATION:PT1H
X-Robots-Tag:noindex
X-PUBLISHED-TTL:PT1H
BEGIN:VTIMEZONE
TZID:UTC
BEGIN:STANDARD
TZOFFSETFROM:+0000
TZOFFSETTO:+0000
TZNAME:UTC
DTSTART:20230101T000000
END:STANDARD
END:VTIMEZONE
BEGIN:VEVENT
DTSTART;TZID=UTC:20240215T180000
DTEND;TZID=UTC:20240215T190000
DTSTAMP:20260424T163400
CREATED:20240122T220113Z
LAST-MODIFIED:20240129T011446Z
UID:3623-1708020000-1708023600@ccrclub.com
SUMMARY:Caucus Update Meeting Feb 15th
DESCRIPTION:Caucus Information: From the Camden County Missouri Republican Central Committee \nCaucus Update Meeting \nThe finalized process will be presented and you will have an opportunity to ask questions. \nWhen: Thursday\, Feb 15th \nTime: 6pm. \nWhere: Camden County Courthouse\, \n3rd Floor Commission Meeting Room. \nNOTE: Reagan Days tickets are here and available at John Beckett’s office at 229 E US Highway 54\, Camdenton. \nRSVP by sending an email to: info.ccmorcc@gmail.com or contact via messenger. \nThe Camden County Missouri Republican Central Committee
URL:https://ccrclub.com/event/caucus-update-meeting-feb-16th/
END:VEVENT
END:VCALENDAR