BEGIN:VCALENDAR
VERSION:2.0
PRODID:-//Camden County Republican Club - ECPv6.15.20//NONSGML v1.0//EN
CALSCALE:GREGORIAN
METHOD:PUBLISH
X-ORIGINAL-URL:https://ccrclub.com
X-WR-CALDESC:Events for Camden County Republican Club
REFRESH-INTERVAL;VALUE=DURATION:PT1H
X-Robots-Tag:noindex
X-PUBLISHED-TTL:PT1H
BEGIN:VTIMEZONE
TZID:UTC
BEGIN:STANDARD
TZOFFSETFROM:+0000
TZOFFSETTO:+0000
TZNAME:UTC
DTSTART:20230101T000000
END:STANDARD
END:VTIMEZONE
BEGIN:VEVENT
DTSTART;TZID=UTC:20240220T063000
DTEND;TZID=UTC:20240220T210000
DTSTAMP:20260424T230559
CREATED:20240110T195252Z
LAST-MODIFIED:20240127T192952Z
UID:3596-1708410600-1708462800@ccrclub.com
SUMMARY:CCRC 2024 Feb 20th Meeting
DESCRIPTION:TUESDAY\, Feb 20\, 2024 \nCamden County \nRepublican Club Meeting \nCommunity Christian Church \n1064 N Business Hwy 5 \nCamdenton\, MO \n7:00 PM \nDoors open at 6:30 PM \nAgenda: \nSPEAKERS: \nJay Ashcroft Secretary of State – Candidate for Governor \nJeff Vernetti – Candidate for District 123 Stat Representative \n******************** \nRSVP needed by Sunday\, Feb 18th \nRSVP by calling 573-723-0388\, option 2\, \nor via email to larsonfrme@aol.com
URL:https://ccrclub.com/event/ccrc-2024-feb-20th-meeting/
END:VEVENT
END:VCALENDAR