BEGIN:VCALENDAR
VERSION:2.0
PRODID:-//Camden County Republican Club - ECPv6.15.20//NONSGML v1.0//EN
CALSCALE:GREGORIAN
METHOD:PUBLISH
X-WR-CALNAME:Camden County Republican Club
X-ORIGINAL-URL:https://ccrclub.com
X-WR-CALDESC:Events for Camden County Republican Club
REFRESH-INTERVAL;VALUE=DURATION:PT1H
X-Robots-Tag:noindex
X-PUBLISHED-TTL:PT1H
BEGIN:VTIMEZONE
TZID:UTC
BEGIN:STANDARD
TZOFFSETFROM:+0000
TZOFFSETTO:+0000
TZNAME:UTC
DTSTART:20230101T000000
END:STANDARD
END:VTIMEZONE
BEGIN:VEVENT
DTSTART;TZID=UTC:20240319T183000
DTEND;TZID=UTC:20240319T210000
DTSTAMP:20260424T174552
CREATED:20240110T195346Z
LAST-MODIFIED:20240222T140655Z
UID:3598-1710873000-1710882000@ccrclub.com
SUMMARY:CCRC 2024 March 19th Meeting
DESCRIPTION:TUESDAY\, Mar 19\, 2024 \nCamden County \nRepublican Club Meeting \nCommunity Christian Church \n1064 N Business Hwy 5 \nCamdenton\, MO \n7:00 PM \nDoors open at 6:30 PM \nSPEAKERS \nCamdenton School Board Candidates: Gail Griswold\, Brian Butts\, & Michael Gulledge \nSchool of the Osage School Board Candidate: Joyce Bush \nCamden County Library Update: Jim Pasley\, Director \n******************** \nRSVP needed by Sunday\, Mar 17th \nRSVP by calling 573-723-0388\, option 2\, \nor via email to larsonfrme@aol.com
URL:https://ccrclub.com/event/ccrc-2024-march-19th-meeting/
END:VEVENT
END:VCALENDAR