BEGIN:VCALENDAR
VERSION:2.0
PRODID:-//Camden County Republican Club - ECPv6.15.20//NONSGML v1.0//EN
CALSCALE:GREGORIAN
METHOD:PUBLISH
X-ORIGINAL-URL:https://ccrclub.com
X-WR-CALDESC:Events for Camden County Republican Club
REFRESH-INTERVAL;VALUE=DURATION:PT1H
X-Robots-Tag:noindex
X-PUBLISHED-TTL:PT1H
BEGIN:VTIMEZONE
TZID:UTC
BEGIN:STANDARD
TZOFFSETFROM:+0000
TZOFFSETTO:+0000
TZNAME:UTC
DTSTART:20230101T000000
END:STANDARD
END:VTIMEZONE
BEGIN:VEVENT
DTSTART;TZID=UTC:20240416T183000
DTEND;TZID=UTC:20240416T210000
DTSTAMP:20260424T124100
CREATED:20240110T195434Z
LAST-MODIFIED:20240409T134128Z
UID:3600-1713292200-1713301200@ccrclub.com
SUMMARY:CCRC 2024 April 16th Meeting
DESCRIPTION:TUESDAY\, Apr 16\, 2024 \nCamden County \nRepublican Club Meeting \nCommunity Christian Church \n1064 N Business Hwy 5 \nCamdenton\, MO \n7:00 PM \nDoors open at 6:30 PM \nSPEAKERS \nChris Wright\, Candidate for Governor \nMissouri State Senator Bill Eigel\, Candidate for Governor \n******************** \nRSVP needed by Sunday\, Apr 14th \nRSVP by calling 573-723-0388\, option 2\, \nor via email to larsonfrme@aol.com
URL:https://ccrclub.com/event/ccrc-2024-april-16th-meeting/
END:VEVENT
END:VCALENDAR