BEGIN:VCALENDAR
VERSION:2.0
PRODID:-//Camden County Republican Club - ECPv6.15.20//NONSGML v1.0//EN
CALSCALE:GREGORIAN
METHOD:PUBLISH
X-ORIGINAL-URL:https://ccrclub.com
X-WR-CALDESC:Events for Camden County Republican Club
REFRESH-INTERVAL;VALUE=DURATION:PT1H
X-Robots-Tag:noindex
X-PUBLISHED-TTL:PT1H
BEGIN:VTIMEZONE
TZID:UTC
BEGIN:STANDARD
TZOFFSETFROM:+0000
TZOFFSETTO:+0000
TZNAME:UTC
DTSTART:20230101T000000
END:STANDARD
END:VTIMEZONE
BEGIN:VEVENT
DTSTART;TZID=UTC:20240610T170000
DTEND;TZID=UTC:20240610T200000
DTSTAMP:20260423T153019
CREATED:20240110T195557Z
LAST-MODIFIED:20240523T124256Z
UID:3604-1718038800-1718049600@ccrclub.com
SUMMARY:CANDIDATE DEBATE - SHERIFF
DESCRIPTION:All county residents are invited to attend. \nMonday\, June 10th \nCandidates for Sheriff Debate:\nJeff Beauchamp\, Jimmy Brashear\, Brian Butts\, Phil Cannon\, Chris Edgar\, Gregg Sellers \n***Riverbird Winery***\n442 Riverbird Ln \nCamdenton\, MO \n***6:00 PM***\nDoors open at 5:00 pm \nCASH BAR AND LIGHT FOOD ITEMS WILL BE AVAILABLE. \nRSVP by calling 573-723-0388 option 2 \nor email larsonfrme@aol.com \n\n\n\n\n\nThe Camden County Republican Central Committee and \nthe Camden County Republican Club are hosting 3 candidate debates. \nThe debate for District 2 Commissioner will be Wed\, June 12th. \nThe debate for District 123 State Representative will be Wed\, June 19th.
URL:https://ccrclub.com/event/ccrc-2024-june-18th-meeting/
END:VEVENT
END:VCALENDAR