BEGIN:VCALENDAR
VERSION:2.0
PRODID:-//Camden County Republican Club - ECPv6.15.20//NONSGML v1.0//EN
CALSCALE:GREGORIAN
METHOD:PUBLISH
X-WR-CALNAME:Camden County Republican Club
X-ORIGINAL-URL:https://ccrclub.com
X-WR-CALDESC:Events for Camden County Republican Club
REFRESH-INTERVAL;VALUE=DURATION:PT1H
X-Robots-Tag:noindex
X-PUBLISHED-TTL:PT1H
BEGIN:VTIMEZONE
TZID:UTC
BEGIN:STANDARD
TZOFFSETFROM:+0000
TZOFFSETTO:+0000
TZNAME:UTC
DTSTART:20230101T000000
END:STANDARD
END:VTIMEZONE
BEGIN:VEVENT
DTSTART;TZID=UTC:20240716T183000
DTEND;TZID=UTC:20240716T210000
DTSTAMP:20260423T103623
CREATED:20240110T195642Z
LAST-MODIFIED:20240709T111727Z
UID:3606-1721154600-1721163600@ccrclub.com
SUMMARY:CCRC 2024 July 16th Meeting
DESCRIPTION:TUESDAY\, July 16\, 2024 \nCamden County \n7:00 PM \nDoors open at 6:30 PM \n***NEW LOCATION*** \nOsage Beach Senior Center \n5709 Osage Beach Parkway \nOsage Beach\, MO \n(next to Hope Lutheran Church) \n  \nSPEAKERS:   \n*State Senator Denny Hoskins\, candidate for Secretary of State \n*State Senator Andrew Koenig\, candidate for Treasurer \n*Lori Rook\, candidate for Treasurer \n*** \nIf you plan to attend\, please let us know by Sunday\, July 14th \nCall 573-723-0388\, option 2\, \nor Email  larsonfrme@aol.com
URL:https://ccrclub.com/event/ccrc-2024-july-16th-meeting/
END:VEVENT
END:VCALENDAR