BEGIN:VCALENDAR
VERSION:2.0
PRODID:-//Camden County Republican Club - ECPv6.15.20//NONSGML v1.0//EN
CALSCALE:GREGORIAN
METHOD:PUBLISH
X-ORIGINAL-URL:https://ccrclub.com
X-WR-CALDESC:Events for Camden County Republican Club
REFRESH-INTERVAL;VALUE=DURATION:PT1H
X-Robots-Tag:noindex
X-PUBLISHED-TTL:PT1H
BEGIN:VTIMEZONE
TZID:UTC
BEGIN:STANDARD
TZOFFSETFROM:+0000
TZOFFSETTO:+0000
TZNAME:UTC
DTSTART:20240101T000000
END:STANDARD
END:VTIMEZONE
BEGIN:VEVENT
DTSTART;TZID=UTC:20250520T183000
DTEND;TZID=UTC:20250520T203000
DTSTAMP:20260422T020901
CREATED:20250323T152648Z
LAST-MODIFIED:20250512T184806Z
UID:4463-1747765800-1747773000@ccrclub.com
SUMMARY:CCRC MAY 20TH MONTHLY MEETING
DESCRIPTION:CAMDEN COUNTY REPUBLICAN CLUB MEETING\n\n\n\nSPEAKERS:\nCHRIS EDGAR – Camden County Sheriff – Chris will give an update on Camden County with regards to law enforcement. \nJEFF VERNETTI – State Representative for the 123rd District\, representing Camden County. Jeff will give a Jefferson City update. \nLOCATION:   5709 Osage Beach Parkway\, Osage Beach\, MO\nlocation of the Osage Beach Senior Center (next to Hope Lutheran Church) \nTIME:  7:00 PM  Doors open at 6:30 PM\nMembership is not required to attend. All are welcome to join us. \nIf you plan to attend\, please let us know by Sunday\, May 18th so we can plan for seating. \nLet us know by calling 573-723-0388\, option 2\, \nVOTE on Board Positions for Vice President\, Deputy Treasurer\, and Secretary\nIn addition\, we will be voting on the following board positions\, for two-year terms. \nVice President Reelect- Warren Neighbour \nDeputy Treasurer Reelect- Missy Boutch \nSecretary Reelect – Rhonda Neighbour \nNote: Only present members can vote and who have paid their 2025 dues as of March 20th\, 2025. \n 
URL:https://ccrclub.com/event/ccrc-may-20th-monthly-meeting/
END:VEVENT
END:VCALENDAR