BEGIN:VCALENDAR
VERSION:2.0
PRODID:-//Camden County Republican Club - ECPv6.15.20//NONSGML v1.0//EN
CALSCALE:GREGORIAN
METHOD:PUBLISH
X-ORIGINAL-URL:https://ccrclub.com
X-WR-CALDESC:Events for Camden County Republican Club
REFRESH-INTERVAL;VALUE=DURATION:PT1H
X-Robots-Tag:noindex
X-PUBLISHED-TTL:PT1H
BEGIN:VTIMEZONE
TZID:UTC
BEGIN:STANDARD
TZOFFSETFROM:+0000
TZOFFSETTO:+0000
TZNAME:UTC
DTSTART:20240101T000000
END:STANDARD
END:VTIMEZONE
BEGIN:VEVENT
DTSTART;TZID=UTC:20250721T180000
DTEND;TZID=UTC:20250721T193000
DTSTAMP:20260421T232742
CREATED:20250717T115041Z
LAST-MODIFIED:20250717T115318Z
UID:4564-1753120800-1753126200@ccrclub.com
SUMMARY:Patriot Dinner Planning Committee Meeting
DESCRIPTION:The first planning meeting for the upcoming Oct 18th Patriot Dinner will be Monday\, July 21st.  Join us to share your ideas and find out how you can help make this a successful event. \nPatriot Dinner Planning Committee Meeting\nWHEN:  Monday\, July 21st    6:00 pm\nWHERE:  Vista Grande Mexican Restaurant\, 4579 Osage Beach Pkwy\, Osage Beach\, MO  65065\n\nWe will eat dinner while we meet.  Ordering is optional.\nIf you plan to attend\, let us know so we can finalize seating needs.\nContact Warren Neighbour via text or call at 573-410-2377 or email warrenccrc@gmail.com\n\n  \n 
URL:https://ccrclub.com/event/patriot-dinner-planning-committee-meeting/
END:VEVENT
END:VCALENDAR