BEGIN:VCALENDAR
VERSION:2.0
PRODID:-//Camden County Republican Club - ECPv6.15.20//NONSGML v1.0//EN
CALSCALE:GREGORIAN
METHOD:PUBLISH
X-ORIGINAL-URL:https://ccrclub.com
X-WR-CALDESC:Events for Camden County Republican Club
REFRESH-INTERVAL;VALUE=DURATION:PT1H
X-Robots-Tag:noindex
X-PUBLISHED-TTL:PT1H
BEGIN:VTIMEZONE
TZID:UTC
BEGIN:STANDARD
TZOFFSETFROM:+0000
TZOFFSETTO:+0000
TZNAME:UTC
DTSTART:20240101T000000
END:STANDARD
END:VTIMEZONE
BEGIN:VEVENT
DTSTART;TZID=UTC:20250827T080000
DTEND;TZID=UTC:20250827T170000
DTSTAMP:20260421T170928
CREATED:20250827T185652Z
LAST-MODIFIED:20250827T185844Z
UID:4845-1756281600-1756314000@ccrclub.com
SUMMARY:Patriot's Dinner Planning and Volunteer Meeting
DESCRIPTION:September 22nd – Third Patriot’s Dinner Planning and Volunteer Meeting \nMonday September 22nd at 6:00 p.m. \nVista Grande Mexican Restaurant \n4579 Osage Beach Parkway \nOsage Beach\, MO 65065 \nIf you have not done so and plan on attending third meeting\, please text or call Warren Neighbor at 573-410-2377 or e-mail Warren at WarrenCCRC@gmail.com. \nWe need to give the restaurant an estimate of many to expect.  We will eat first and then meet while eating. \nNOTE:  Ordering food is optional and your own expense \n 
URL:https://ccrclub.com/event/patriots-dinner-planning-and-volunteer-meeting/
END:VEVENT
END:VCALENDAR