BEGIN:VCALENDAR
VERSION:2.0
PRODID:-//Camden County Republican Club - ECPv6.15.20//NONSGML v1.0//EN
CALSCALE:GREGORIAN
METHOD:PUBLISH
X-WR-CALNAME:Camden County Republican Club
X-ORIGINAL-URL:https://ccrclub.com
X-WR-CALDESC:Events for Camden County Republican Club
REFRESH-INTERVAL;VALUE=DURATION:PT1H
X-Robots-Tag:noindex
X-PUBLISHED-TTL:PT1H
BEGIN:VTIMEZONE
TZID:UTC
BEGIN:STANDARD
TZOFFSETFROM:+0000
TZOFFSETTO:+0000
TZNAME:UTC
DTSTART:20240101T000000
END:STANDARD
END:VTIMEZONE
BEGIN:VEVENT
DTSTART;TZID=UTC:20250922T180000
DTEND;TZID=UTC:20250922T200000
DTSTAMP:20260420T161359
CREATED:20250827T191808Z
LAST-MODIFIED:20250827T193236Z
UID:4848-1758564000-1758571200@ccrclub.com
SUMMARY:Monday September 22nd - Patriot's Dinner Volunteer and Planning Committee
DESCRIPTION:Monday\, September 22nd at 6:00p.m. – Patriot’s Dinner Volunteer and Planning Committee Meeting \nVista Grande Mexican Restaurant \n4579 Osage Beach Parkway \nOsage Beach\, MO 65065 \nIf you haven’t already and plan on attending this event\, please call or text Warren Neighbor at 573-410-2377 or send an e-mail to Warrenccrc@gmail.com. \nWe will eat first\, then meet.  We need to give the restaurant an estimate of attendance. \nOrdering food is optional\, but at your own expense. \n  \n 
URL:https://ccrclub.com/event/monday-september-22nd-patriots-dinner-volunteer-and-planning-committee/
END:VEVENT
END:VCALENDAR