BEGIN:VCALENDAR
VERSION:2.0
PRODID:-//Camden County Republican Club - ECPv6.15.20//NONSGML v1.0//EN
CALSCALE:GREGORIAN
METHOD:PUBLISH
X-WR-CALNAME:Camden County Republican Club
X-ORIGINAL-URL:https://ccrclub.com
X-WR-CALDESC:Events for Camden County Republican Club
REFRESH-INTERVAL;VALUE=DURATION:PT1H
X-Robots-Tag:noindex
X-PUBLISHED-TTL:PT1H
BEGIN:VTIMEZONE
TZID:UTC
BEGIN:STANDARD
TZOFFSETFROM:+0000
TZOFFSETTO:+0000
TZNAME:UTC
DTSTART:20250101T000000
END:STANDARD
END:VTIMEZONE
BEGIN:VEVENT
DTSTART;TZID=UTC:20260317T183000
DTEND;TZID=UTC:20260330T203000
DTSTAMP:20260425T222900
CREATED:20260304T210125Z
LAST-MODIFIED:20260304T210308Z
UID:5350-1773772200-1774902600@ccrclub.com
SUMMARY:Meet the Camdenton School Board Candidates - Tuesday March 17th - 7:00pm
DESCRIPTION:The Camdenton County Republican Club is proud to offer the opportunity for the residents of Camdenton County to have a question-and-answer session with the Candidates for the Camdenton County School District.   The President of the Camdenton County Republican Club\, Les Larson will host a question-and-answer session to all of the candidates; Shelly Creed\, Troy Risner\, Callie Henze and Nancy Masterson. \nIn addition\, we are also proud to have the Superintendent of Camdenton County Schools in attendance as well – Dr. Brent Thompson. \nAttendees will also have the opportunity to ask questions of these individuals as well. \nDoors open at 6:30\, event starts at 7:00pm.  Event is being held at the Osage Beach Senior Center\, 5706 Osage Beach Parkway\, Osage Beach\, MO.  To ensure enough seating\, please let us know by Sunday\, March 15th – either by phone – 573-723-0388\, option 2 or by e-mail larsonfrme@aol.com.
URL:https://ccrclub.com/event/meet-the-camdenton-school-board-candidates-tuesday-march-17th-700pm/
END:VEVENT
BEGIN:VEVENT
DTSTART;TZID=UTC:20260421T183000
DTEND;TZID=UTC:20260421T210000
DTSTAMP:20260425T222900
CREATED:20260409T181311Z
LAST-MODIFIED:20260413T171626Z
UID:5422-1776796200-1776805200@ccrclub.com
SUMMARY:CCRC Monthly Meeting - April 21st - 7:00 p.m.
DESCRIPTION:The CCRC Club is proud to offer residents to meet the candidates for Prosecuting Attorney and Auditor.  Candidates for Prosecuting Attorney are Richelle Grosvenor (incumbent) and Lynne Brand.  Candidates for Auditor are Jimmy Laughlin (incumbent)\, Kris Franklin\, and Madeline Kincaid.   Doors open at 6:30\, meeting starts at 7:00 p.m. at the Osage Senior Center\, 5709 Osage Beach Parkway\, Osage Beach\, MO.
URL:https://ccrclub.com/event/ccrc-monthly-meeting-april-21st-700-p-m/
END:VEVENT
BEGIN:VEVENT
DTSTART;TZID=UTC:20260425T110000
DTEND;TZID=UTC:20260425T180000
DTSTAMP:20260425T222900
CREATED:20260425T192540Z
LAST-MODIFIED:20260416T201521Z
UID:5433-1777114800-1777140000@ccrclub.com
SUMMARY:Dogwood Festival - April 25th- 11:00 to 6:00
DESCRIPTION:Once again the Camden County Republican Club is proud to host a booth at the annual Dogwood Festival from 11:00 am to 6:00pm.  Please make a point to come by our booth\, which will by the Camdenton County Middle School\, to renew your membership or sign up to join the  Camdenton County Republican Club.   And pick up information regarding Amendments 3 & 4!  Or for a donation obtain our CCRC 250th Birthday Celebration merchandise -cups\, umbrellas or lunch totes!  Or just visit with like minded friends!
URL:https://ccrclub.com/event/april-25th-2026th-dogwood-festival/
END:VEVENT
END:VCALENDAR