BEGIN:VCALENDAR
VERSION:2.0
PRODID:-//Camden County Republican Club - ECPv6.15.20//NONSGML v1.0//EN
CALSCALE:GREGORIAN
METHOD:PUBLISH
X-WR-CALNAME:Camden County Republican Club
X-ORIGINAL-URL:https://ccrclub.com
X-WR-CALDESC:Events for Camden County Republican Club
REFRESH-INTERVAL;VALUE=DURATION:PT1H
X-Robots-Tag:noindex
X-PUBLISHED-TTL:PT1H
BEGIN:VTIMEZONE
TZID:UTC
BEGIN:STANDARD
TZOFFSETFROM:+0000
TZOFFSETTO:+0000
TZNAME:UTC
DTSTART:20220101T000000
END:STANDARD
END:VTIMEZONE
BEGIN:VEVENT
DTSTART;TZID=UTC:20231007T170000
DTEND;TZID=UTC:20231007T210000
DTSTAMP:20260425T143622
CREATED:20230515T213919Z
LAST-MODIFIED:20230908T201037Z
UID:1672-1696698000-1696712400@ccrclub.com
SUMMARY:PATRIOTS' DINNER Oct. 7th
DESCRIPTION:Learn more and purchase tickets…\n  \n  \n 
URL:https://ccrclub.com/event/patriots-dinner-oct-7th/
END:VEVENT
BEGIN:VEVENT
DTSTART;TZID=UTC:20231017T183000
DTEND;TZID=UTC:20231017T210000
DTSTAMP:20260425T143622
CREATED:20230922T212854Z
LAST-MODIFIED:20230922T215123Z
UID:2358-1697567400-1697576400@ccrclub.com
SUMMARY:Oct 17 CCRC Monthly Meeting
DESCRIPTION:TUESDAY\, Oct 17\, 2023\nCamden County\nRepublican Club Meeting \nCommunity Christian Church\n1064 N Business Hwy 5\nCamdenton\, MO \n7:00 PM\nDoors open at 6:30 PM\nAgenda:\nProposed By-Laws Discussions & Vote \nSPEAKER:\nSusan Klein\,\nExecutive Director\nMissouri Right to Life \nRSVP needed by Sunday\, Oct 15th\nRSVP by calling 573-723-0388\, option 2\,\nor via email to larsonfrme@aol.com
URL:https://ccrclub.com/event/oct-7-ccrc-monthly-meeting/
END:VEVENT
END:VCALENDAR