BEGIN:VCALENDAR
VERSION:2.0
PRODID:-//Camden County Republican Club - ECPv6.15.20//NONSGML v1.0//EN
CALSCALE:GREGORIAN
METHOD:PUBLISH
X-WR-CALNAME:Camden County Republican Club
X-ORIGINAL-URL:https://ccrclub.com
X-WR-CALDESC:Events for Camden County Republican Club
REFRESH-INTERVAL;VALUE=DURATION:PT1H
X-Robots-Tag:noindex
X-PUBLISHED-TTL:PT1H
BEGIN:VTIMEZONE
TZID:UTC
BEGIN:STANDARD
TZOFFSETFROM:+0000
TZOFFSETTO:+0000
TZNAME:UTC
DTSTART:20220101T000000
END:STANDARD
END:VTIMEZONE
BEGIN:VEVENT
DTSTART;TZID=UTC:20231203T160000
DTEND;TZID=UTC:20231203T180000
DTSTAMP:20260424T205802
CREATED:20231106T191302Z
LAST-MODIFIED:20231106T191302Z
UID:3472-1701619200-1701626400@ccrclub.com
SUMMARY:CCRC Holiday Party Dec 3rd 4-6PM
DESCRIPTION:CCRC Holiday Party & Volunteer Appreciation Event \nWe are partnering with Ozark Rehabilitation & Health Care Center. \nIf interested\, please bring an unwrapped gift item. \nItems needed are: lap blankets\, socks\, hats\, gloves\, books\, shampoo\, lotion\, body wash. \nSunday\, December 3rd \n4 – 6 PM \nFree Appetizers \nCash Bar \nSeven Springs Winery \n846 Winery Hills Estate \nLinn Creek\, MO \nRSVP needed by Friday\, Dec 1st. \nRSVP by calling 573-723-0388\, option 2\, \nor via email to larsonfrme@aol.com
URL:https://ccrclub.com/event/ccrc-holiday-party-dec-3rd-4-6pm/
LOCATION:7 Springs Winery\, 846 Winery Hills Estate\, Linn Creek\, Missouri\, United States Minor Outlying Islands
END:VEVENT
END:VCALENDAR