BEGIN:VCALENDAR
VERSION:2.0
PRODID:-//Camden County Republican Club - ECPv6.15.20//NONSGML v1.0//EN
CALSCALE:GREGORIAN
METHOD:PUBLISH
X-ORIGINAL-URL:https://ccrclub.com
X-WR-CALDESC:Events for Camden County Republican Club
REFRESH-INTERVAL;VALUE=DURATION:PT1H
X-Robots-Tag:noindex
X-PUBLISHED-TTL:PT1H
BEGIN:VTIMEZONE
TZID:UTC
BEGIN:STANDARD
TZOFFSETFROM:+0000
TZOFFSETTO:+0000
TZNAME:UTC
DTSTART:20230101T000000
END:STANDARD
END:VTIMEZONE
BEGIN:VEVENT
DTSTART;TZID=UTC:20240506T173000
DTEND;TZID=UTC:20240506T190000
DTSTAMP:20260423T152917
CREATED:20240414T130348Z
LAST-MODIFIED:20240414T130738Z
UID:3725-1715016600-1715022000@ccrclub.com
SUMMARY:Hand Count Training - May 6th
DESCRIPTION:Monday\, May 6th\, 6 pm\nHand Count Training\n***Tonka Hills Restaurant***\n2598 US Hwy 54\, Linn Creek\, MO\n***Questions and to RSVP\, contact Gayle Nieters\, at 573-434-4775\, gayle@joenieters.com.  Please RSVP by May 1st.***\nLinda Rantz is a National Trainer on an initiative to return to hand counting of elections.  We have training session for all interested on May 6th\, 6:00 pm\, Tonka Hills Restaurant.  She will train on hand counting methods plus how to start this process in our county.  Check-in for the training starts at 5:30 pm.  Come earlier to enjoy a meal at Tonks Hills in advance of the meeting.
URL:https://ccrclub.com/event/hand-count-training/
END:VEVENT
BEGIN:VEVENT
DTSTART;TZID=UTC:20240521T183000
DTEND;TZID=UTC:20240521T210000
DTSTAMP:20260423T152917
CREATED:20240110T195520Z
LAST-MODIFIED:20240506T130011Z
UID:3602-1716316200-1716325200@ccrclub.com
SUMMARY:CCRC 2024 May 21st Meeting
DESCRIPTION:TUESDAY\, May 21\, 2024 \nCamden County \nRepublican Club Meeting \nCommunity Christian Church \n1064 N Business Hwy 5 \nCamdenton\, MO \n7:00 PM \nDoors open at 6:30 PM \nSPEAKERS: \nRepresentative Dr Lisa Thomas\, MO District 123 and candidate for reelection \nCandidates for 26th Judicial Circuit Court  \nCharles Dickman \nAndrew Hardwick \nNick Mebruer \nStacey Patterson \n*********************** \nIn addition\, we will elect the CCRC President and Vice President \n******************** \nRSVP needed by Sunday\, May 19th \nRSVP by calling 573-723-0388\, option 2\, \nor via email to larsonfrme@aol.com
URL:https://ccrclub.com/event/ccrc-2024-may-21st-meeting/
END:VEVENT
END:VCALENDAR