BEGIN:VCALENDAR
VERSION:2.0
PRODID:-//Camden County Republican Club - ECPv6.15.20//NONSGML v1.0//EN
CALSCALE:GREGORIAN
METHOD:PUBLISH
X-ORIGINAL-URL:https://ccrclub.com
X-WR-CALDESC:Events for Camden County Republican Club
REFRESH-INTERVAL;VALUE=DURATION:PT1H
X-Robots-Tag:noindex
X-PUBLISHED-TTL:PT1H
BEGIN:VTIMEZONE
TZID:UTC
BEGIN:STANDARD
TZOFFSETFROM:+0000
TZOFFSETTO:+0000
TZNAME:UTC
DTSTART:20230101T000000
END:STANDARD
END:VTIMEZONE
BEGIN:VEVENT
DTSTART;TZID=UTC:20240610T170000
DTEND;TZID=UTC:20240610T200000
DTSTAMP:20260423T134934
CREATED:20240110T195557Z
LAST-MODIFIED:20240523T124256Z
UID:3604-1718038800-1718049600@ccrclub.com
SUMMARY:CANDIDATE DEBATE - SHERIFF
DESCRIPTION:All county residents are invited to attend. \nMonday\, June 10th \nCandidates for Sheriff Debate:\nJeff Beauchamp\, Jimmy Brashear\, Brian Butts\, Phil Cannon\, Chris Edgar\, Gregg Sellers \n***Riverbird Winery***\n442 Riverbird Ln \nCamdenton\, MO \n***6:00 PM***\nDoors open at 5:00 pm \nCASH BAR AND LIGHT FOOD ITEMS WILL BE AVAILABLE. \nRSVP by calling 573-723-0388 option 2 \nor email larsonfrme@aol.com \n\n\n\n\n\nThe Camden County Republican Central Committee and \nthe Camden County Republican Club are hosting 3 candidate debates. \nThe debate for District 2 Commissioner will be Wed\, June 12th. \nThe debate for District 123 State Representative will be Wed\, June 19th.
URL:https://ccrclub.com/event/ccrc-2024-june-18th-meeting/
END:VEVENT
BEGIN:VEVENT
DTSTART;TZID=UTC:20240612T170000
DTEND;TZID=UTC:20240612T200000
DTSTAMP:20260423T134934
CREATED:20240523T122852Z
LAST-MODIFIED:20240523T124327Z
UID:3745-1718211600-1718222400@ccrclub.com
SUMMARY:CANDIDATE DEBATE - 2ND DISTRICT COMMISSIONER
DESCRIPTION:All county residents are invited to attend. \nWednesday\, June 12th\nCandidates for 2nd District Commissioner Debate:\nSteve Dougan\, Danial Dugan\, Deryl Osborn\, James Rericha\, and Bill Walker \n***Riverbird Winery***\n442 Riverbird Ln \nCamdenton\, MO \n***6:00 PM***\nDoors open at 5:00 pm \nCASH BAR AND LIGHT FOOD ITEMS WILL BE AVAILABLE. \nRSVP by calling 573-723-0388 option 2 \nor email larsonfrme@aol.com \n\n\n\n\nThe Camden County Republican Central Committee and \nthe Camden County Republican Club are hosting 3 candidate debates. \nThe debate for Sheriff will be Mon\, June 10th. \nThe debate for District 123 State Representative will be Wed\, June 19th.
URL:https://ccrclub.com/event/candidate-debate-2nd-district-commissioner/
END:VEVENT
BEGIN:VEVENT
DTSTART;TZID=UTC:20240615T100000
DTEND;TZID=UTC:20240615T140000
DTSTAMP:20260423T134934
CREATED:20240527T152010Z
LAST-MODIFIED:20240605T125417Z
UID:3758-1718445600-1718460000@ccrclub.com
SUMMARY:GRAND OPENING Trump Republican Headquarters
DESCRIPTION:Trump Republican Headquarters\nGRAND OPENING \nJune 15th   10 am – 12 pm\nLocation: \n246 E Hwy 54\, Camdenton  (next to McDonalds)\n*Meet Candidates and Elected Officials \n*Pick Up your Candidates’ Yard Signs & Campaign Flyers \n*Purchase and Support Trump and Patriotic Merchandise \n*Discuss Ballot/Voting Issues \nHeadquarter Hours:\nTue – Fri 11 am – 6 pm\, \nSat 10 am – 2 pm\,\nClosed Sunday and Monday\nMerchandise\, Candidate Flyers and Yard Signs\, and Voting Information will be available. \nCall 573-723-0388\, option 3 for questions or more information. \n 
URL:https://ccrclub.com/event/grand-opening-trump-republican-headquarters/
END:VEVENT
BEGIN:VEVENT
DTSTART;TZID=UTC:20240619T170000
DTEND;TZID=UTC:20240619T200000
DTSTAMP:20260423T134934
CREATED:20240523T123124Z
LAST-MODIFIED:20240523T124415Z
UID:3747-1718816400-1718827200@ccrclub.com
SUMMARY:CANDIDATE DEBATE - DISTRICT 123 STATE REPRESENTATIVE
DESCRIPTION:All county residents are invited to attend. \nWednesday\, June 19th\nCandidates for District 123 State Representative Debate:\nDr Lisa Thomas\, Jeff Vernetti \n*** Riverbird Winery***\n442 Riverbird Ln \nCamdenton\, MO \n***6:00 PM***\nDoors open at 5:00 pm \nCASH BAR AND LIGHT FOOD ITEMS WILL BE AVAILABLE. \nRSVP by calling 573-723-0388 option 2 \nor email larsonfrme@aol.com \n\n\n\n\nThe Camden County Republican Central Committee and \nthe Camden County Republican Club are hosting 3 candidate debates. \nThe debate for Sheriff will be Mon\, June 10th. \nThe debate for District 2 Commissioner will be Wed\, June 12th.
URL:https://ccrclub.com/event/candidate-debate-district-123-state-representative/
END:VEVENT
END:VCALENDAR