BEGIN:VCALENDAR
VERSION:2.0
PRODID:-//Camden County Republican Club - ECPv6.15.20//NONSGML v1.0//EN
CALSCALE:GREGORIAN
METHOD:PUBLISH
X-WR-CALNAME:Camden County Republican Club
X-ORIGINAL-URL:https://ccrclub.com
X-WR-CALDESC:Events for Camden County Republican Club
REFRESH-INTERVAL;VALUE=DURATION:PT1H
X-Robots-Tag:noindex
X-PUBLISHED-TTL:PT1H
BEGIN:VTIMEZONE
TZID:UTC
BEGIN:STANDARD
TZOFFSETFROM:+0000
TZOFFSETTO:+0000
TZNAME:UTC
DTSTART:20240101T000000
END:STANDARD
END:VTIMEZONE
BEGIN:VEVENT
DTSTART;TZID=UTC:20250121T183000
DTEND;TZID=UTC:20250121T210000
DTSTAMP:20260422T084225
CREATED:20250108T123725Z
LAST-MODIFIED:20250108T123725Z
UID:4366-1737484200-1737493200@ccrclub.com
SUMMARY:January CCRC Meeting
DESCRIPTION:TUESDAY\, January 21\, 2025\, Camden County Republican Club Meeting\nSPEAKERS:  Nathan Bechtold\, Editor Lake Expo and Marty McGuire\, Camden County Assessor \nLOCATION:  5709 Osage Beach Pkwy\, Osage Beach (location of Osage Beach Senior Center) click this link – map & photos \nTIME:  7:00 PM\, Doors open at 6:30 PM \nTOPICS:  Nathan Bechtold\, Editor Lake Expo\, will discuss the Lake Expo organization and important issues facing the Lake Area.  Marty McGuire\, Camden County Assessor\, will provide an overview of the Assessor Department and discuss tax issues – personal property\, real estate\, and the process for “freezing” your real estate tax. \nIF YOU PLAN TO ATTEND\, please let us know by Sunday\, January 19th so we can plan for seating. Let us know by calling 573-723-0388\, option 2\, or via email to larsonfrme@aol.com. \nYou do not need to be member to attend – all are welcome.
URL:https://ccrclub.com/event/january-ccrc-meeting/
END:VEVENT
END:VCALENDAR