BEGIN:VCALENDAR
VERSION:2.0
PRODID:-//Camden County Republican Club - ECPv6.15.20//NONSGML v1.0//EN
CALSCALE:GREGORIAN
METHOD:PUBLISH
X-WR-CALNAME:Camden County Republican Club
X-ORIGINAL-URL:https://ccrclub.com
X-WR-CALDESC:Events for Camden County Republican Club
REFRESH-INTERVAL;VALUE=DURATION:PT1H
X-Robots-Tag:noindex
X-PUBLISHED-TTL:PT1H
BEGIN:VTIMEZONE
TZID:UTC
BEGIN:STANDARD
TZOFFSETFROM:+0000
TZOFFSETTO:+0000
TZNAME:UTC
DTSTART:20240101T000000
END:STANDARD
END:VTIMEZONE
BEGIN:VEVENT
DTSTART;TZID=UTC:20250318T183000
DTEND;TZID=UTC:20250318T210000
DTSTAMP:20260422T021255
CREATED:20250303T230712Z
LAST-MODIFIED:20250307T141913Z
UID:4447-1742322600-1742331600@ccrclub.com
SUMMARY:CCRC March 18th Monthly Meeting
DESCRIPTION:Camden County Republican Club Meeting\nSPEAKERS – \nCandidates for Camdenton R3 School Board: \nEric Walters (incumbent). Jacob Neusche (incumbent). and Debra Wright \nPLUS \nNew Superintendents 2025-2026: \nCamdenton R3 Schools\, Dr Brett Thompson and School of the Osage\, Dr Jason Price. \n  \nLOCATION – 5709 Osage Beach Parkway\, Osage Beach\, MO \nlocation of the Osage Beach Senior Center (next to Hope Lutheran Church) \n  \nTIME:  7:00 PM  Doors open at 6:30 PM \nMembership is not required to attend. All are welcome to join us. \nIf you plan to attend\, please let us know by Sunday\, March 16th so we can plan for seating. \nLet us know by calling 573-723-0388\, option 2\, \nor via email to larsonfrme@aol.com
URL:https://ccrclub.com/event/ccrc-march-18th-monthly-meeting/
END:VEVENT
END:VCALENDAR