BEGIN:VCALENDAR
VERSION:2.0
PRODID:-//Camden County Republican Club - ECPv6.15.20//NONSGML v1.0//EN
CALSCALE:GREGORIAN
METHOD:PUBLISH
X-ORIGINAL-URL:https://ccrclub.com
X-WR-CALDESC:Events for Camden County Republican Club
REFRESH-INTERVAL;VALUE=DURATION:PT1H
X-Robots-Tag:noindex
X-PUBLISHED-TTL:PT1H
BEGIN:VTIMEZONE
TZID:UTC
BEGIN:STANDARD
TZOFFSETFROM:+0000
TZOFFSETTO:+0000
TZNAME:UTC
DTSTART:20240101T000000
END:STANDARD
END:VTIMEZONE
BEGIN:VEVENT
DTSTART;TZID=UTC:20250415T183000
DTEND;TZID=UTC:20250415T203000
DTSTAMP:20260421T231712
CREATED:20250323T152403Z
LAST-MODIFIED:20250408T200014Z
UID:4460-1744741800-1744749000@ccrclub.com
SUMMARY:CCRC April 15th Monthly Meeting
DESCRIPTION:Camden County Republican Club Meeting\n\n\n\nSPEAKERS: \nJOHN BECKETT\, Camden County Central Committee Chairman – John will provide an update on the Camden County Republican Central Committee *** \nCHRIS FOSTER\, Director of Outlet Mall Renovation for Horizon Development – Chris will provide an update on plans for the Osage Beach Outlet Mall property *** \nLOCATION: 5709 Osage Beach Parkway\, Osage Beach\, MO \nlocation of the Osage Beach Senior Center (next to Hope Lutheran Church) \nTIME:    7:00 PM  Doors open at 6:30 PM \nMembership is not required to attend. All are welcome to join us. \nIf you plan to attend\, please let us know by Sunday\, April 13th so we can plan for seating. \nLet us know by calling 573-723-0388\, option 2\,
URL:https://ccrclub.com/event/ccrc-april-15th-monthly-meeting/
END:VEVENT
END:VCALENDAR